BEGIN:VCALENDAR
VERSION:2.0
PRODID:SchoolNow
CALSCALE:GREGORIAN
BEGIN:VEVENT
UID:013db0ee-54c8-11ef-a979-0a58a9feac02
DTSTAMP:20240807T142010Z
SUMMARY:Board of Education Meeting (8-20-24)
LOCATION:District Office
URL;VALUE=URI:https://www.liverpool.k12.ny.us/board-of-education/calendar/6
 366272/board-of-education-meeting-8-30-24
DTSTART:20240820T220000Z
DTEND:20240821T020000Z
END:VEVENT
END:VCALENDAR
