BEGIN:VCALENDAR
VERSION:2.0
PRODID:SchoolNow
CALSCALE:GREGORIAN
BEGIN:VEVENT
UID:2c8f94ec-54c8-11ef-a134-0a58a9feac02
DTSTAMP:20240807T142018Z
SUMMARY:Board of Education Meeting (9-4-24)
LOCATION:District Office
URL;VALUE=URI:https://www.liverpool.k12.ny.us/board-of-education/calendar/6
 366274/board-of-education-meeting-9-4-24
DTSTART:20240904T220000Z
DTEND:20240905T020000Z
END:VEVENT
END:VCALENDAR
