BEGIN:VCALENDAR
VERSION:2.0
PRODID:SchoolNow
CALSCALE:GREGORIAN
BEGIN:VEVENT
UID:054e45e4-54c9-11ef-b5e5-0a58a9feac02
DTSTAMP:20240807T142622Z
SUMMARY:Board of Education Meeting (12-2-24)
LOCATION:District Office
URL;VALUE=URI:https://www.liverpool.k12.ny.us/board-of-education/calendar/6
 366286/board-of-education-meeting-12-2-24
DTSTART:20241202T230000Z
DTEND:20241203T030000Z
END:VEVENT
END:VCALENDAR
