BEGIN:VCALENDAR
VERSION:2.0
PRODID:SchoolNow
CALSCALE:GREGORIAN
BEGIN:VEVENT
UID:3ee48dae-54c9-11ef-bd83-0a58a9feac02
DTSTAMP:20240807T142759Z
SUMMARY:Board of Education Meeting (12-16-24)
LOCATION:District Office
URL;VALUE=URI:https://www.liverpool.k12.ny.us/board-of-education/calendar/6
 366288/board-of-education-meeting-12-16-24
DTSTART:20241216T230000Z
DTEND:20241217T030000Z
END:VEVENT
END:VCALENDAR
