BEGIN:VCALENDAR
VERSION:2.0
PRODID:SchoolNow
CALSCALE:GREGORIAN
BEGIN:VEVENT
UID:7da4d256-54c9-11ef-a922-0a58a9feac02
DTSTAMP:20240807T142944Z
SUMMARY:Board of Education Meeting (1-6-25)
LOCATION:District Office
URL;VALUE=URI:https://www.liverpool.k12.ny.us/board-of-education/calendar/6
 366290/board-of-education-meeting-1-6-25
DTSTART:20250106T230000Z
DTEND:20250107T030000Z
END:VEVENT
END:VCALENDAR
