BEGIN:VCALENDAR
VERSION:2.0
PRODID:SchoolNow
CALSCALE:GREGORIAN
BEGIN:VEVENT
UID:aff58354-54c9-11ef-af39-0a58a9feac02
DTSTAMP:20250110T152154Z
SUMMARY:Board of Education Meeting (1-21-25)
LOCATION:District Office
URL;VALUE=URI:https://www.liverpool.k12.ny.us/board-of-education/calendar/6
 366292/board-of-education-meeting-1-21-25
DTSTART:20250121T223000Z
DTEND:20250122T023000Z
END:VEVENT
END:VCALENDAR
