BEGIN:VCALENDAR
VERSION:2.0
PRODID:SchoolNow
CALSCALE:GREGORIAN
BEGIN:VEVENT
UID:26b1895a-6cb3-11f0-90f1-0a58a9feac02
DTSTAMP:20250729T193652Z
SUMMARY:Board of Education Meeting (8-19-25)
LOCATION:District Office Board Room
URL;VALUE=URI:https://www.liverpool.k12.ny.us/board-of-education/calendar/8
 455872/board-of-education-meeting-8-5-25
DTSTART:20250819T220000Z
DTEND:20250820T020000Z
END:VEVENT
END:VCALENDAR
