BEGIN:VCALENDAR
VERSION:2.0
PRODID:SchoolNow
CALSCALE:GREGORIAN
BEGIN:VEVENT
UID:8acf3b26-6cb3-11f0-9bb4-0a58a9feac02
DTSTAMP:20250729T193803Z
SUMMARY:Board of Education Meeting (9-8-25)
LOCATION:District Office Board Room
URL;VALUE=URI:https://www.liverpool.k12.ny.us/board-of-education/calendar/8
 455874/board-of-education-meeting-9-8-25
DTSTART:20250908T220000Z
DTEND:20250909T020000Z
END:VEVENT
END:VCALENDAR
