BEGIN:VCALENDAR
VERSION:2.0
PRODID:SchoolNow
CALSCALE:GREGORIAN
BEGIN:VEVENT
UID:d751efd4-6cb3-11f0-b75d-0affea04400d
DTSTAMP:20250729T194011Z
SUMMARY:Board of Education Meeting (9-22-25)
LOCATION:District Office Board Room
URL;VALUE=URI:https://www.liverpool.k12.ny.us/board-of-education/calendar/8
 455893/board-of-education-meeting-9-22-25
DTSTART:20250922T220000Z
DTEND:20250923T020000Z
END:VEVENT
END:VCALENDAR
