BEGIN:VCALENDAR
VERSION:2.0
PRODID:SchoolNow
CALSCALE:GREGORIAN
BEGIN:VEVENT
UID:f50842a0-5a64-11eb-9387-02c61b20df03
DTSTAMP:20210615T174545Z
SUMMARY:Algebra I Regents Exams
URL;VALUE=URI:https://www.liverpool.k12.ny.us/calendar/2527390/regents-exam
 s
DTSTART:20210623T121500Z
DTEND:20210623T151500Z
END:VEVENT
END:VCALENDAR
