BEGIN:VCALENDAR
VERSION:2.0
PRODID:SchoolNow
CALSCALE:GREGORIAN
BEGIN:VEVENT
UID:f508ce78-5a64-11eb-8f07-02c61b20df03
DTSTAMP:20210316T182023Z
SUMMARY:LCSD Middle and High School Progress Reports Online (3-19-21)
URL;VALUE=URI:https://www.liverpool.k12.ny.us/calendar/2527435/lcsd-middle-
 and-high-school-progress-reports-online
DTSTART:20210319T040000Z
DTEND:20210320T035900Z
END:VEVENT
END:VCALENDAR
