BEGIN:VCALENDAR
VERSION:2.0
PRODID:SchoolNow
CALSCALE:GREGORIAN
BEGIN:VEVENT
UID:f50937b4-5a64-11eb-8885-02c61b20df03
DTSTAMP:20210316T182214Z
SUMMARY:Middle School Parent Conferences (10-15-20)
URL;VALUE=URI:https://www.liverpool.k12.ny.us/calendar/2527467/middle-schoo
 l-parent-conferences
DTSTART:20201015T040000Z
DTEND:20201016T035900Z
END:VEVENT
END:VCALENDAR
