BEGIN:VCALENDAR
VERSION:2.0
PRODID:SchoolNow
CALSCALE:GREGORIAN
BEGIN:VEVENT
UID:f5095140-5a64-11eb-b28a-02c61b20df03
DTSTAMP:20210602T135127Z
SUMMARY:Policy Committee Meeting (6-3-21)
URL;VALUE=URI:https://www.liverpool.k12.ny.us/calendar/2527474/policy-commi
 ttee-meeting
DTSTART:20210603T110000Z
DTEND:20210603T130000Z
END:VEVENT
END:VCALENDAR
