BEGIN:VCALENDAR
VERSION:2.0
PRODID:SchoolNow
CALSCALE:GREGORIAN
BEGIN:VEVENT
UID:f5096e5a-5a64-11eb-868d-02c61b20df03
DTSTAMP:20210407T134316Z
SUMMARY:Policy Committee Meeting (4-8-21)
URL;VALUE=URI:https://www.liverpool.k12.ny.us/calendar/2527479/policy-commi
 ttee-meeting
DTSTART:20210408T110000Z
DTEND:20210408T130000Z
END:VEVENT
END:VCALENDAR
