BEGIN:VCALENDAR
VERSION:2.0
PRODID:SchoolNow
CALSCALE:GREGORIAN
BEGIN:VEVENT
UID:f50b3442-5a64-11eb-8c0b-02c61b20df03
DTSTAMP:20210618T202349Z
SUMMARY:LHS Graduation
URL;VALUE=URI:https://www.liverpool.k12.ny.us/calendar/2527571/lhs-graduati
 on
DTSTART:20210626T130000Z
DTEND:20210626T210000Z
END:VEVENT
END:VCALENDAR
