BEGIN:VCALENDAR
VERSION:2.0
PRODID:SchoolNow
CALSCALE:GREGORIAN
BEGIN:VEVENT
UID:a39b0d66-8e4f-11eb-b81a-0acdb799fc65
DTSTAMP:20210326T162346Z
SUMMARY:Labor Day (9-6-21)
URL;VALUE=URI:https://www.liverpool.k12.ny.us/calendar/2563337/labor-day-9-
 6-21
DTSTART;VALUE=DATE:20210906
DTEND;VALUE=DATE:20210907
END:VEVENT
END:VCALENDAR
