BEGIN:VCALENDAR
VERSION:2.0
PRODID:SchoolNow
CALSCALE:GREGORIAN
BEGIN:VEVENT
UID:d39d484e-8e4f-11eb-89fb-0acdb799fc65
DTSTAMP:20210326T162532Z
SUMMARY:First Day of School (9-9-21)
URL;VALUE=URI:https://www.liverpool.k12.ny.us/calendar/2563340/first-day-of
 -school-9-9-21
DTSTART;VALUE=DATE:20210909
DTEND;VALUE=DATE:20210910
END:VEVENT
END:VCALENDAR
