BEGIN:VCALENDAR
VERSION:2.0
PRODID:SchoolNow
CALSCALE:GREGORIAN
BEGIN:VEVENT
UID:2a970756-9969-11eb-91b0-02ccf212067f
DTSTAMP:20210409T192413Z
SUMMARY:Special Board of Education Meeting (4-12-21)
URL;VALUE=URI:https://www.liverpool.k12.ny.us/calendar/2573483/special-boar
 d-of-education-meeting-4-12-21
DTSTART:20210412T230000Z
DTEND:20210413T030000Z
END:VEVENT
END:VCALENDAR
