BEGIN:VCALENDAR
VERSION:2.0
PRODID:SchoolNow
CALSCALE:GREGORIAN
BEGIN:VEVENT
UID:bbedb6fc-9d2c-11eb-a600-026c38758dcb
DTSTAMP:20210414T142142Z
SUMMARY:NYS ELA Assessments - Grade 3
URL;VALUE=URI:https://www.liverpool.k12.ny.us/calendar/2576737/nys-ela-asse
 ssments-grade-3
DTSTART;VALUE=DATE:20210419
DTEND;VALUE=DATE:20210420
END:VEVENT
END:VCALENDAR
