BEGIN:VCALENDAR
VERSION:2.0
PRODID:SchoolNow
CALSCALE:GREGORIAN
BEGIN:VEVENT
UID:e15ebc7e-9d2c-11eb-adb9-026c38758dcb
DTSTAMP:20210414T142256Z
SUMMARY:NYS ELA Assessments - Grade 4
URL;VALUE=URI:https://www.liverpool.k12.ny.us/calendar/2576747/nys-ela-asse
 ssments-grade-4
DTSTART;VALUE=DATE:20210420
DTEND;VALUE=DATE:20210421
END:VEVENT
END:VCALENDAR
