BEGIN:VCALENDAR
VERSION:2.0
PRODID:SchoolNow
CALSCALE:GREGORIAN
BEGIN:VEVENT
UID:1011c6e2-9d2d-11eb-8f6b-026c38758dcb
DTSTAMP:20210414T142403Z
SUMMARY:NYS ELA Assessments - Grade 5\, 7 & 8
URL;VALUE=URI:https://www.liverpool.k12.ny.us/calendar/2576757/nys-ela-asse
 ssments-grade-5-7-8
DTSTART;VALUE=DATE:20210421
DTEND;VALUE=DATE:20210422
END:VEVENT
END:VCALENDAR
