BEGIN:VCALENDAR
VERSION:2.0
PRODID:SchoolNow
CALSCALE:GREGORIAN
BEGIN:VEVENT
UID:2c7fe3fe-9d2d-11eb-99c9-026c38758dcb
DTSTAMP:20210414T142456Z
SUMMARY:NYS ELA Assessments - Grade 6
URL;VALUE=URI:https://www.liverpool.k12.ny.us/calendar/2576770/nys-ela-asse
 ssments-grade-6
DTSTART;VALUE=DATE:20210422
DTEND;VALUE=DATE:20210423
END:VEVENT
END:VCALENDAR
