BEGIN:VCALENDAR
VERSION:2.0
PRODID:SchoolNow
CALSCALE:GREGORIAN
BEGIN:VEVENT
UID:5360d712-9d2d-11eb-a134-026c38758dcb
DTSTAMP:20210414T142556Z
SUMMARY:NYS Math Assessments - Grade 3
URL;VALUE=URI:https://www.liverpool.k12.ny.us/calendar/2576780/nys-math-ass
 essments-grade-3
DTSTART;VALUE=DATE:20210503
DTEND;VALUE=DATE:20210504
END:VEVENT
END:VCALENDAR
