BEGIN:VCALENDAR
VERSION:2.0
PRODID:SchoolNow
CALSCALE:GREGORIAN
BEGIN:VEVENT
UID:7860e138-9d2d-11eb-bdf0-026c38758dcb
DTSTAMP:20210414T142720Z
SUMMARY:NYS Math Assessments - Grade 4
URL;VALUE=URI:https://www.liverpool.k12.ny.us/calendar/2576790/nys-ela-asse
 ssments-grade-4
DTSTART;VALUE=DATE:20210504
DTEND;VALUE=DATE:20210505
END:VEVENT
END:VCALENDAR
