BEGIN:VCALENDAR
VERSION:2.0
PRODID:SchoolNow
CALSCALE:GREGORIAN
BEGIN:VEVENT
UID:a7d693c2-9d2d-11eb-8700-026c38758dcb
DTSTAMP:20210414T142817Z
SUMMARY:NYS Math Assessments - Grade 5\, 7 & 8
URL;VALUE=URI:https://www.liverpool.k12.ny.us/calendar/2576800/nys-math-ass
 essments-grade-5-7-8
DTSTART;VALUE=DATE:20210505
DTEND;VALUE=DATE:20210506
END:VEVENT
END:VCALENDAR
