BEGIN:VCALENDAR
VERSION:2.0
PRODID:SchoolNow
CALSCALE:GREGORIAN
BEGIN:VEVENT
UID:2f243c4a-a921-11eb-b9dc-0e5863696e01
DTSTAMP:20210429T192915Z
SUMMARY:Voter Registration Day (5-11-21)
URL;VALUE=URI:https://www.liverpool.k12.ny.us/calendar/2589647/voter-regist
 ration-day-5-11-21
DTSTART:20210511T130000Z
DTEND:20210511T200000Z
END:VEVENT
END:VCALENDAR
