BEGIN:VCALENDAR
VERSION:2.0
PRODID:SchoolNow
CALSCALE:GREGORIAN
BEGIN:VEVENT
UID:b5dcacbc-b1b0-11eb-8f91-0abc0cf20227
DTSTAMP:20210510T165648Z
SUMMARY:Audit Committee Meeting 5-13-21
URL;VALUE=URI:https://www.liverpool.k12.ny.us/calendar/2597197/audit-commit
 tee-meeting-5-13-21
DTSTART:20210513T120000Z
DTEND:20210513T130000Z
END:VEVENT
END:VCALENDAR
