BEGIN:VCALENDAR
VERSION:2.0
PRODID:SchoolNow
CALSCALE:GREGORIAN
BEGIN:VEVENT
UID:d9dc65d4-b7ec-11eb-b1a3-0ac705c2f373
DTSTAMP:20210518T152226Z
SUMMARY:Memorial Day Holiday - School Closed
URL;VALUE=URI:https://www.liverpool.k12.ny.us/calendar/2601568/memorial-day
 -holiday-school-closed
DTSTART;VALUE=DATE:20210528
DTEND;VALUE=DATE:20210529
END:VEVENT
END:VCALENDAR
