BEGIN:VCALENDAR
VERSION:2.0
PRODID:SchoolNow
CALSCALE:GREGORIAN
BEGIN:VEVENT
UID:a5d51bd8-c57e-11eb-b620-0296607c9f87
DTSTAMP:20210604T214850Z
SUMMARY:BOE Public Hearing 6/7/21
LOCATION:District Office
URL;VALUE=URI:https://www.liverpool.k12.ny.us/calendar/2611653/boe-public-h
 earing-6-7-21
DTSTART:20210607T223000Z
DTEND:20210607T230000Z
END:VEVENT
END:VCALENDAR
