BEGIN:VCALENDAR
VERSION:2.0
PRODID:SchoolNow
CALSCALE:GREGORIAN
BEGIN:VEVENT
UID:ba0552a4-c88e-11eb-a645-0e9e8dd162af
DTSTAMP:20210608T192129Z
SUMMARY:Board of Education Reorganizational Meeting 7-12-21
URL;VALUE=URI:https://www.liverpool.k12.ny.us/calendar/2615090/board-of-edu
 cation-reorganizational-meeting-7-12-21
DTSTART:20210712T230000Z
DTEND:20210713T030000Z
END:VEVENT
END:VCALENDAR
