BEGIN:VCALENDAR
VERSION:2.0
PRODID:SchoolNow
CALSCALE:GREGORIAN
BEGIN:VEVENT
UID:b49a3f4c-cd2e-11eb-842b-0ae7a8c1b8d7
DTSTAMP:20210614T163644Z
SUMMARY:Audit Committee Meeting (6-17-21)
URL;VALUE=URI:https://www.liverpool.k12.ny.us/calendar/2619808/audit-commit
 tee-meeting-6-17-21
DTSTART:20210617T120000Z
DTEND:20210617T130000Z
END:VEVENT
END:VCALENDAR
