BEGIN:VCALENDAR
VERSION:2.0
PRODID:SchoolNow
CALSCALE:GREGORIAN
BEGIN:VEVENT
UID:2e116dda-cec1-11eb-b824-0a7f11e2523d
DTSTAMP:20210712T150008Z
SUMMARY:Summer Meal Program @ Liverpool Elementary 12:30 to 1 p.m.
LOCATION:Liverpool Elementary
URL;VALUE=URI:https://www.liverpool.k12.ny.us/calendar/2621762/summer-meal-
 program-liverpool-elementary
DTSTART:20210512T163000Z
DTEND:20210701T170000Z
END:VEVENT
END:VCALENDAR
