BEGIN:VCALENDAR
VERSION:2.0
PRODID:SchoolNow
CALSCALE:GREGORIAN
BEGIN:VEVENT
UID:aa86c61c-cec1-11eb-ab35-0a7f11e2523d
DTSTAMP:20210712T150039Z
SUMMARY:Summer Meal Program @ Donlin Drive Elementary Begins
LOCATION:Donlin Drive Elementary
URL;VALUE=URI:https://www.liverpool.k12.ny.us/calendar/2621766/summer-meal-
 program-donlin-drive-elementary-noon-to-12-30-p-m
DTSTART:20210607T160000Z
DTEND:20210701T163000Z
END:VEVENT
END:VCALENDAR
