BEGIN:VCALENDAR
VERSION:2.0
PRODID:SchoolNow
CALSCALE:GREGORIAN
BEGIN:VEVENT
UID:dfc1fa54-cec1-11eb-a31f-0a7f11e2523d
DTSTAMP:20210712T150205Z
SUMMARY:Summer Meal Program @ Soule Road Complex Begins
LOCATION:Soule Road Complex
URL;VALUE=URI:https://www.liverpool.k12.ny.us/calendar/2621804/summer-meal-
 program-soule-road-complex-11-30-to-noon
DTSTART;VALUE=DATE:20210712
DTEND;VALUE=DATE:20210713
END:VEVENT
END:VCALENDAR
