BEGIN:VCALENDAR
VERSION:2.0
PRODID:SchoolNow
CALSCALE:GREGORIAN
BEGIN:VEVENT
UID:fe3246ce-cec1-11eb-a4ec-0a7f11e2523d
DTSTAMP:20210712T150232Z
SUMMARY:Summer Meal Program @ Chestnut Hill Middle Begins
LOCATION:Chestnut Hill Middle
URL;VALUE=URI:https://www.liverpool.k12.ny.us/calendar/2621805/summer-meal-
 program-chestnut-hill-middle-noon-to-12-30-p-m
DTSTART:20210712T160000Z
DTEND:20210712T163000Z
END:VEVENT
END:VCALENDAR
