BEGIN:VCALENDAR
VERSION:2.0
PRODID:SchoolNow
CALSCALE:GREGORIAN
BEGIN:VEVENT
UID:f5a51644-e3f7-11eb-ab92-0a39880a93d5
DTSTAMP:20210713T163248Z
SUMMARY:Board of Education Meeting (8-3-21)
URL;VALUE=URI:https://www.liverpool.k12.ny.us/calendar/2638217/board-of-edu
 cation-meeting-8-3-21
DTSTART:20210803T230000Z
DTEND:20210804T030000Z
END:VEVENT
END:VCALENDAR
