BEGIN:VCALENDAR
VERSION:2.0
PRODID:SchoolNow
CALSCALE:GREGORIAN
BEGIN:VEVENT
UID:5d7c4166-e3f8-11eb-937d-0a39880a93d5
DTSTAMP:20210713T163542Z
SUMMARY:Board of Education Meeting (9-13-21)
URL;VALUE=URI:https://www.liverpool.k12.ny.us/calendar/2638222/board-of-edu
 cation-meeting-9-13-21
DTSTART:20210913T230000Z
DTEND:20210914T030000Z
END:VEVENT
END:VCALENDAR
