BEGIN:VCALENDAR
VERSION:2.0
PRODID:SchoolNow
CALSCALE:GREGORIAN
BEGIN:VEVENT
UID:8b2c958e-e3f8-11eb-a871-0a39880a93d5
DTSTAMP:20210804T184554Z
SUMMARY:Board of Education Meeting (9-28-21)
URL;VALUE=URI:https://www.liverpool.k12.ny.us/calendar/2638224/board-of-edu
 cation-meeting-9-27-21
DTSTART:20210928T230000Z
DTEND:20210929T030000Z
END:VEVENT
END:VCALENDAR
