BEGIN:VCALENDAR
VERSION:2.0
PRODID:SchoolNow
CALSCALE:GREGORIAN
BEGIN:VEVENT
UID:6de808e6-e690-11ec-8a39-0e786fa374e3
DTSTAMP:20220607T183413Z
SUMMARY:Veterans Day Observance - School Closed (11-11-22)
URL;VALUE=URI:https://www.liverpool.k12.ny.us/calendar/3213825/veterans-day
 -observance-school-closed-11-11-22
DTSTART;VALUE=DATE:20221111
DTEND;VALUE=DATE:20221112
END:VEVENT
END:VCALENDAR
