BEGIN:VCALENDAR
VERSION:2.0
PRODID:SchoolNow
CALSCALE:GREGORIAN
BEGIN:VEVENT
UID:05e28112-e691-11ec-9e25-0e786fa374e3
DTSTAMP:20220607T183828Z
SUMMARY:Thanksgiving Recess - School Closed (11-24-22)
URL;VALUE=URI:https://www.liverpool.k12.ny.us/calendar/3213856/thanksgiving
 -recess-school-closed-11-24-22
DTSTART;VALUE=DATE:20221124
DTEND;VALUE=DATE:20221125
END:VEVENT
END:VCALENDAR
