BEGIN:VCALENDAR
VERSION:2.0
PRODID:SchoolNow
CALSCALE:GREGORIAN
BEGIN:VEVENT
UID:d78a9744-e692-11ec-9e3a-0e4e53052bef
DTSTAMP:20220607T185129Z
SUMMARY:Holiday Recess - School Closed (12-28-22)
URL;VALUE=URI:https://www.liverpool.k12.ny.us/calendar/3213916/holiday-rece
 ss-school-closed-12-28-22
DTSTART;VALUE=DATE:20221228
DTEND;VALUE=DATE:20221229
END:VEVENT
END:VCALENDAR
