BEGIN:VCALENDAR
VERSION:2.0
PRODID:SchoolNow
CALSCALE:GREGORIAN
BEGIN:VEVENT
UID:cdbfe010-e693-11ec-aba8-0e4e53052bef
DTSTAMP:20220607T185822Z
SUMMARY:New Year's Holiday - School Closed (1-2-23)
URL;VALUE=URI:https://www.liverpool.k12.ny.us/calendar/3213961/new-years-ho
 liday-school-closed-1-2-23
DTSTART;VALUE=DATE:20230102
DTEND;VALUE=DATE:20230103
END:VEVENT
END:VCALENDAR
