BEGIN:VCALENDAR
VERSION:2.0
PRODID:SchoolNow
CALSCALE:GREGORIAN
BEGIN:VEVENT
UID:68ad7e8e-e694-11ec-81c0-0e4e53052bef
DTSTAMP:20220607T190242Z
SUMMARY:Regents Exams (1-24-23)
URL;VALUE=URI:https://www.liverpool.k12.ny.us/calendar/3213990/regents-exam
 s-1-24-23
DTSTART;VALUE=DATE:20230124
DTEND;VALUE=DATE:20230125
END:VEVENT
END:VCALENDAR
