BEGIN:VCALENDAR
VERSION:2.0
PRODID:SchoolNow
CALSCALE:GREGORIAN
BEGIN:VEVENT
UID:7e118d74-e694-11ec-bc69-0e4e53052bef
DTSTAMP:20220607T190318Z
SUMMARY:Regents Exams (1-25-23)
URL;VALUE=URI:https://www.liverpool.k12.ny.us/calendar/3213992/regents-exam
 s-1-25-23
DTSTART;VALUE=DATE:20230125
DTEND;VALUE=DATE:20230126
END:VEVENT
END:VCALENDAR
