BEGIN:VCALENDAR
VERSION:2.0
PRODID:SchoolNow
CALSCALE:GREGORIAN
BEGIN:VEVENT
UID:9d66f236-e694-11ec-acd6-0e4e53052bef
DTSTAMP:20220607T190411Z
SUMMARY:Regents Exams (1-26-23)
URL;VALUE=URI:https://www.liverpool.k12.ny.us/calendar/3213994/regents-exam
 s-1-26-23
DTSTART;VALUE=DATE:20230126
DTEND;VALUE=DATE:20230127
END:VEVENT
END:VCALENDAR
