BEGIN:VCALENDAR
VERSION:2.0
PRODID:SchoolNow
CALSCALE:GREGORIAN
BEGIN:VEVENT
UID:c2fc1a9e-e694-11ec-bd19-0e4e53052bef
DTSTAMP:20220607T190514Z
SUMMARY:Regents Exams (1-27-23)
URL;VALUE=URI:https://www.liverpool.k12.ny.us/calendar/3213996/regents-exam
 s-1-27-23
DTSTART;VALUE=DATE:20230127
DTEND;VALUE=DATE:20230128
END:VEVENT
END:VCALENDAR
