BEGIN:VCALENDAR
VERSION:2.0
PRODID:SchoolNow
CALSCALE:GREGORIAN
BEGIN:VEVENT
UID:b17cca92-e8e3-11ec-8957-0aca6eca568d
DTSTAMP:20220610T173517Z
SUMMARY:Winter Recess - School Closed (2-22-23)
URL;VALUE=URI:https://www.liverpool.k12.ny.us/calendar/3217130/winter-reces
 s-school-closed-2-22-23
DTSTART;VALUE=DATE:20230222
DTEND;VALUE=DATE:20230223
END:VEVENT
END:VCALENDAR
