BEGIN:VCALENDAR
VERSION:2.0
PRODID:SchoolNow
CALSCALE:GREGORIAN
BEGIN:VEVENT
UID:e11207e0-e8e3-11ec-b04e-0aca6eca568d
DTSTAMP:20220610T173637Z
SUMMARY:Winter Recess - School Closed (2-23-23)
URL;VALUE=URI:https://www.liverpool.k12.ny.us/calendar/3217131/winter-reces
 s-school-closed-2-23-23
DTSTART;VALUE=DATE:20230223
DTEND;VALUE=DATE:20230224
END:VEVENT
END:VCALENDAR
