BEGIN:VCALENDAR
VERSION:2.0
PRODID:SchoolNow
CALSCALE:GREGORIAN
BEGIN:VEVENT
UID:f1f8aca8-e8e3-11ec-bfc6-0aca6eca568d
DTSTAMP:20220610T173705Z
SUMMARY:Winter Recess - School Closed (2-24-23)
URL;VALUE=URI:https://www.liverpool.k12.ny.us/calendar/3217132/winter-reces
 s-school-closed-2-24-23
DTSTART;VALUE=DATE:20230224
DTEND;VALUE=DATE:20230225
END:VEVENT
END:VCALENDAR
