BEGIN:VCALENDAR
VERSION:2.0
PRODID:SchoolNow
CALSCALE:GREGORIAN
BEGIN:VEVENT
UID:16f192a4-e8e4-11ec-b949-0aca6eca568d
DTSTAMP:20220610T173807Z
SUMMARY:Superintendent's Conference Day - Students Do Not Report (3-13-23)
URL;VALUE=URI:https://www.liverpool.k12.ny.us/calendar/3217133/superintende
 nts-conference-day-students-do-not-report-3-13-23
DTSTART;VALUE=DATE:20230313
DTEND;VALUE=DATE:20230314
END:VEVENT
END:VCALENDAR
